BEGIN:VCALENDAR
VERSION:2.0
PRODID:-//ChamberMaster//Event Calendar 2.0//EN
METHOD:PUBLISH
X-PUBLISHED-TTL:P3D
REFRESH-INTERVAL:P3D
CALSCALE:GREGORIAN
BEGIN:VEVENT
DTSTART:20211021T220000Z
DTEND:20211022T000000Z
X-MICROSOFT-CDO-ALLDAYEVENT:FALSE
SUMMARY:Young Professionals of EMC
DESCRIPTION:The new YPs of EMC are having their second gathering after a very successful kick-off thanks to event sponsor Morgan Turner of Iscential! Come enjoy a complimentary welcome drink and a fun\, friendly\, and informative time at Main Event in Humble. You'll also play a role in helping develop the future of this new group and #Proud2BeEMC chamber opportunity.\n\n \n\nWhat does a Young Professionals group do?\n\n	Provide a chamber-supported space for young professionals to network\, develop professionally\, and engage with their community in a meaningful way\n	Increase awareness of local chambers of commerce and the importance of a strong business community amongst a young\, diverse group of professionals\n	Institutionalize access to resources and a path to leadership within local chambers of commerce in order to catalyze further involvement and external professional success\n\nThe new YPs of EMC will also be in charge of our annual gift card drive benefiting member organizations whose purpose is to help others in need.\n\n\n\nWe as a chamber are excited to add this additional monthly opportunity to our organization. Traditionally young professional groups are between the ages of 21 to 40ish. If you'd like to learn more and get involved\, please register to attend this free event.
X-ALT-DESC;FMTTYPE=text/html:<span style="font-size:22px\;">The new YPs of EMC are having their second gathering after a very successful kick-off thanks to event sponsor Morgan Turner of <a href="https://business.gemcchamber.com/list/member/iscential-inc-5215">Iscential</a>! Come enjoy a complimentary welcome drink and a fun\, friendly\, and informative time at Main Event in Humble. You&#39\;ll also play a role in helping develop the future of this new group and #Proud2BeEMC chamber opportunity.<br />\n&nbsp\;<br />\nWhat does a Young Professionals group do?</span>\n<ol>\n	<li><span style="font-size:22px\;">Provide a chamber-supported space for young professionals to network\, develop professionally\, and engage with their community in a meaningful way</span></li>\n	<li><span style="font-size:22px\;">Increase awareness of local chambers of commerce and the importance of a strong business community amongst a young\, diverse group of professionals</span></li>\n	<li><span style="font-size:22px\;"><span style="font-size:22px\;">Institutionalize access to resources and a path to leadership within local chambers of commerce in order to catalyze further involvement and external professional success</span></span></li>\n</ol>\n<span style="font-size:22px\;"><span style="font-size:22px\;">The new YPs of EMC will also be in charge of our annual gift card drive benefiting member organizations whose purpose is to help others in need.<br />\n<br />\nWe as a chamber are excited to add this additional monthly opportunity to our organization. Traditionally young professional groups are between the ages of 21 to 40ish. If you&#39\;d like to learn more and get involved\, please register to attend this free event.</span></span>
LOCATION:Main Event - Humble 20945 Spring Creek Crossing\, Humble\, TX 77338
UID:e.478.15316
SEQUENCE:3
DTSTAMP:20260423T025645Z
URL:https://business.gemcchamber.com/events/details/young-professionals-of-emc-15316
END:VEVENT

END:VCALENDAR
