BEGIN:VCALENDAR
VERSION:2.0
PRODID:-//ChamberMaster//Event Calendar 2.0//EN
METHOD:PUBLISH
X-PUBLISHED-TTL:P3D
REFRESH-INTERVAL:P3D
CALSCALE:GREGORIAN
BEGIN:VEVENT
DTSTART:20220518T230000Z
DTEND:20220519T010000Z
X-MICROSOFT-CDO-ALLDAYEVENT:FALSE
SUMMARY:The Livable Forest Spring Mixer
DESCRIPTION:Please let us know if you are attending our first monthly mixer ! This is an opportunity to meet other members\, network for business and learn a bit more about The Livable Forest .\n\n \n\n\n\nThis is a MEMBERS ONLY event so you will need to have your perks card to enter the building. \n\n\n\n\n\nRSVP HERE ! Last day to register is May 14\, 2022\n\nhttps://thelivableforest.com/spring-mixer-rsvp/
X-ALT-DESC;FMTTYPE=text/html:<div>\n<div>\n<div>\n<div>\n<div>\n<div><span dir="auto" style="color:var(--primary-text)\; font-family:inherit\; font-size:0.9375rem">Please let us know if you are attending our first monthly mixer ! This is an opportunity to meet other members\, network for business and learn a bit more about The Livable Forest .</span><br />\n&nbsp\;</div>\n</div>\n\n<div>\n<div><span dir="auto" style="color:var(--primary-text)\; font-family:inherit\; font-size:0.9375rem">This is a MEMBERS ONLY event so you will need to have your perks card to enter the building. </span></div>\n</div>\n\n<div>\n<div><br />\n<span dir="auto" style="color:var(--primary-text)\; font-family:inherit\; font-size:0.9375rem">RSVP HERE ! Last day to register is May 14\, 2022</span></div>\n\n<div><span dir="auto" style="color:var(--primary-text)\; font-family:inherit\; font-size:0.9375rem"><span style="font-family:inherit"><a class="oajrlxb2 g5ia77u1 qu0x051f esr5mh6w e9989ue4 r7d6kgcz rq0escxv nhd2j8a9 nc684nl6 p7hjln8o kvgmc6g5 cxmmr5t8 oygrvhab hcukyx3x jb3vyjys rz4wbd8a qt6c0cv9 a8nywdso i1ao9s8h esuyzwwr f1sip0of lzcic4wl gpro0wi8 py34i1dx" href="https://l.facebook.com/l.php?u=https%3A%2F%2Fthelivableforest.com%2Fspring-mixer-rsvp%2F%3Ffbclid%3DIwAR08vSUl4-Y7Y0HVgExSmWXYNxOxhh55h8SAEYMeW9uTws15e6RjV3NM9B4&amp\;h=AT2RNr5H_TbnL_PgWtBnhkfXXkfG-pB8Os7GYv5R27NdpAt5cR3OmXmFdDgpF08t0v-s1M4Ysv9YeTbKZCjWT1oGNdGgFzVxDn5Q5marYe61nzzdh7U3ktLngl6SOcgHBQ&amp\;__tn__=-UK-R&amp\;c[0]=AT1NA91t4KM3q4cZvCtFk3ClRvD0dDCEeeWfTBokNMZGi5HOxjKNg-innsEGn76NB_aDweDoISJrM5zg3yr56m2hUrfsiMvenG8CXUg2yg5_IpBzWwyUPlaRYSyaUaABaAGKTMXOD7FcSdo4k5QLKuyDwt3exubUpBWuNQ" rel="nofollow noopener" style="cursor: pointer\; text-decoration-line: none\; outline: none\; list-style: none\; border-width: 0px\; border-style: initial\; border-color: initial\; padding: 0px\; margin: 0px\; touch-action: manipulation\; text-align: inherit\; display: inline\; -webkit-tap-highlight-color: transparent\; box-sizing: border-box\; font-family: inherit\; animation-name: none !important\; transition-property: none !important\;" tabindex="0" target="_blank">https://thelivableforest.com/spring-mixer-rsvp/</a></span></span></div>\n</div>\n</div>\n</div>\n</div>\n</div>\n\n<div>\n<div>\n<div>\n<div>\n<div>\n<div>\n<div>\n<div>\n<div>\n<div>\n<div>\n<div>\n<div>&nbsp\;</div>\n</div>\n</div>\n</div>\n</div>\n</div>\n</div>\n\n<div>\n<div>\n<div>\n<div>\n<div>\n<div>\n<div>\n<div>\n<div>&nbsp\;</div>\n</div>\n</div>\n</div>\n</div>\n</div>\n</div>\n\n<div>\n<div>\n<div>&nbsp\;</div>\n\n<div>&nbsp\;</div>\n</div>\n</div>\n</div>\n</div>\n</div>\n</div>\n</div>\n</div>\n</div>\n</div>\n
LOCATION:Pinspiration Kingwood Address: 1310 Northpark Dr Ste #800\, Kingwood\, TX 77339
UID:e.478.16094
SEQUENCE:3
DTSTAMP:20260422T103915Z
URL:https://business.gemcchamber.com/events/details/the-livable-forest-spring-mixer-16094
END:VEVENT

END:VCALENDAR
