BEGIN:VCALENDAR
VERSION:2.0
PRODID:-//ChamberMaster//Event Calendar 2.0//EN
METHOD:PUBLISH
X-PUBLISHED-TTL:P3D
REFRESH-INTERVAL:P3D
CALSCALE:GREGORIAN
BEGIN:VEVENT
DTSTART:20250912T123000Z
DTEND:20250912T190000Z
X-MICROSOFT-CDO-ALLDAYEVENT:FALSE
SUMMARY:Shootout Hunger Sporting Clays Tournament
DESCRIPTION:Gather your hunting partners and join Montgomery County Food Bank for "Shootout Hunger"\, their annual sporting clays tournament\, presented by Cowboy Kia\, on September 12 at Blackwood Sporting Co.\n\n\n\nThis exciting event raises funds for the Food Bank's programs for children\, families\, veterans\, and seniors facing hunger.\n\n\n\nEvery $1 raised provides up to 4 meals for our neighbors in need of food assistance.\n\n\n\nIn 2024\, Montgomery County Food Bank served 85\,000 client contacts each month\, with the need for food assistance continuing to rise.\n\n\n\nJoin the fight against hunger and "shootout" for a good cause. REGISTER HERE!
X-ALT-DESC;FMTTYPE=text/html:<span style="color:rgb(34\, 34\, 34)\; font-family:helvetica\,arial\,sans-serif\; font-size:16px">Gather your hunting partners and join&nbsp\;</span><strong><span style="font-family:oxygen\,sans-serif\; font-size:16px"><span style="color:rgb(34\, 34\, 34)\; font-family:helvetica\,arial\,sans-serif">Montgomery County Food Bank</span></span></strong><span style="color:rgb(34\, 34\, 34)\; font-family:helvetica\,arial\,sans-serif\; font-size:16px">&nbsp\;for &ldquo\;</span><strong><span style="font-family:oxygen\,sans-serif\; font-size:16px"><span style="color:rgb(34\, 34\, 34)\; font-family:helvetica\,arial\,sans-serif">Shootout Hunger</span></span></strong><span style="color:rgb(34\, 34\, 34)\; font-family:helvetica\,arial\,sans-serif\; font-size:16px">&rdquo\;\, their annual sporting clays tournament\, presented by Cowboy Kia\, on&nbsp\;</span><strong><span style="font-family:oxygen\,sans-serif\; font-size:16px"><span style="color:rgb(34\, 34\, 34)\; font-family:helvetica\,arial\,sans-serif">September 12</span></span></strong><span style="color:rgb(34\, 34\, 34)\; font-family:helvetica\,arial\,sans-serif\; font-size:16px">&nbsp\;at Blackwood Sporting Co.</span><br />\n<br />\n<span style="color:rgb(34\, 34\, 34)\; font-family:helvetica\,arial\,sans-serif\; font-size:16px">This exciting event raises funds for the Food Bank&rsquo\;s programs for children\, families\, veterans\, and seniors facing hunger.</span><br />\n<br />\n<span style="color:rgb(34\, 34\, 34)\; font-family:helvetica\,arial\,sans-serif\; font-size:16px"><strong>Every $1 raised provides up to 4 meals for our neighbors in need of food assistance</strong>.</span><br />\n<br />\n<span style="color:rgb(34\, 34\, 34)\; font-family:helvetica\,arial\,sans-serif\; font-size:16px">In 2024\, Montgomery County Food Bank served 85\,000 client contacts each month\, with the need for food assistance continuing to rise.</span><br />\n<br />\n<span style="color:rgb(34\, 34\, 34)\; font-family:helvetica\,arial\,sans-serif\; font-size:16px">Join the fight against hunger and &ldquo\;shootout&rdquo\; for a good cause.&nbsp\;<strong><a href="https://mcfoodbank.org/events/shootout-hunger/" style="box-sizing: border-box\; background-color: transparent\; color: rgb(49\, 96\, 148)\; text-decoration-line: none\; overflow-wrap: break-word\;">REGISTER HERE</a></strong>!</span>
LOCATION:Blackwood Sporting Co. 11400 FM 2854 Conroe\, TX 77304
UID:e.478.18633
SEQUENCE:3
DTSTAMP:20260420T083447Z
URL:https://business.gemcchamber.com/events/details/shootout-hunger-sporting-clays-tournament-18633
END:VEVENT

END:VCALENDAR
