BEGIN:VCALENDAR
VERSION:2.0
PRODID:-//ChamberMaster//Event Calendar 2.0//EN
METHOD:PUBLISH
X-PUBLISHED-TTL:P3D
REFRESH-INTERVAL:P3D
CALSCALE:GREGORIAN
BEGIN:VEVENT
DTSTART:20201015T163000Z
DTEND:20201015T170000Z
X-MICROSOFT-CDO-ALLDAYEVENT:FALSE
SUMMARY:Ribbon Cutting - The Beehive Boutique & Garden
DESCRIPTION:Come welcome The Beehive Boutique & Garden to the chamber at their ribbon cutting!
X-ALT-DESC;FMTTYPE=text/html:Come welcome&nbsp\;<span style="color: rgb(32\, 31\, 30)\; font-family: Calibri\, sans-serif\; font-size: 14.6667px\;">The Beehive Boutique &amp\; Garden</span> to the chamber at their ribbon cutting!
LOCATION:20334 US Hwy 59 New Caney\, TX 77357
UID:e.478.13358
SEQUENCE:3
DTSTAMP:20260424T141041Z
URL:https://business.gemcchamber.com/events/details/ribbon-cutting-the-beehive-boutique-garden-13358
END:VEVENT

END:VCALENDAR
