BEGIN:VCALENDAR
VERSION:2.0
PRODID:-//ChamberMaster//Event Calendar 2.0//EN
METHOD:PUBLISH
X-PUBLISHED-TTL:P3D
REFRESH-INTERVAL:P3D
CALSCALE:GREGORIAN
BEGIN:VEVENT
DTSTART:20260514T163000Z
DTEND:20260514T173000Z
X-MICROSOFT-CDO-ALLDAYEVENT:FALSE
SUMMARY:Ribbon Cutting - McCoy's Building Supply
DESCRIPTION:Come experience why we call our ribbon cuttings\, "More Than A Ribbon Cutting" as we welcome and thank McCoy's Building Supply for being part of the business community with their membership. It's a great opportunity to learn more about how to support them while networking with others and enjoying the hospitality of the host location.
X-ALT-DESC;FMTTYPE=text/html:Come experience why we call our ribbon cuttings\, &quot\;More Than A Ribbon Cutting&quot\; as we welcome and thank&nbsp\;McCoy&#39\;s Building Supply&nbsp\;for being part of the business community with their membership. It&#39\;s a great opportunity to learn more about how to support them while networking with others and enjoying the hospitality of the host location.
LOCATION:McCoy's Building Supply 21989 SH 242 New Caney\, TX 77357
UID:e.478.20677
SEQUENCE:3
DTSTAMP:20260422T044942Z
URL:https://business.gemcchamber.com/events/details/ribbon-cutting-mccoy-s-building-supply-20677
END:VEVENT

END:VCALENDAR
