BEGIN:VCALENDAR
VERSION:2.0
PRODID:-//ChamberMaster//Event Calendar 2.0//EN
METHOD:PUBLISH
X-PUBLISHED-TTL:P3D
REFRESH-INTERVAL:P3D
CALSCALE:GREGORIAN
BEGIN:VEVENT
DTSTART:20240209T220000Z
DTEND:20240209T230000Z
X-MICROSOFT-CDO-ALLDAYEVENT:FALSE
SUMMARY:Ribbon Cutting - dermani MEDSPA
DESCRIPTION:Come experience why we call our ribbon cuttings\, "More Than A Ribbon Cutting" as we welcome and thank dermani MEDSPA - New Caney for being part of the business community with their membership. It's a great opportunity to learn more about how to support them while networking with others and enjoying the hospitality of the host location.
X-ALT-DESC;FMTTYPE=text/html:Come experience why we call our ribbon cuttings\, &quot\;More Than A Ribbon Cutting&quot\; as we welcome and thank dermani MEDSPA - New Caney&nbsp\;for being part of the business community with their membership. It&#39\;s a great opportunity to learn more about how to support them while networking with others and enjoying the hospitality of the host location.
LOCATION:21383 Valley Ranch Boulevard\, Suite 150\, New Caney\, TX\, 77357\, United States
UID:e.478.17627
SEQUENCE:3
DTSTAMP:20260421T090408Z
URL:https://business.gemcchamber.com/events/details/ribbon-cutting-dermani-medspa-17627
END:VEVENT

END:VCALENDAR
