BEGIN:VCALENDAR
VERSION:2.0
PRODID:-//ChamberMaster//Event Calendar 2.0//EN
METHOD:PUBLISH
X-PUBLISHED-TTL:P3D
REFRESH-INTERVAL:P3D
CALSCALE:GREGORIAN
BEGIN:VEVENT
DTSTART:20250607T130000Z
DTEND:20250607T160000Z
X-MICROSOFT-CDO-ALLDAYEVENT:FALSE
SUMMARY:D.R. Horton - Public Model Furniture Sale
DESCRIPTION:Join us for our public model furniture sale on June 7th in our Presswoods Community!
X-ALT-DESC;FMTTYPE=text/html:Join us for our public model furniture sale on June 7th in our Presswoods Community!&nbsp\;
LOCATION:Presswoods Community: Lines will start at 23640 & 23644 Silver Concord Dr. Splendora\, TX 77372
UID:e.478.18481
SEQUENCE:3
DTSTAMP:20260421T085937Z
URL:https://business.gemcchamber.com/events/details/public-model-furniture-sale-18481
END:VEVENT

END:VCALENDAR
