BEGIN:VCALENDAR
VERSION:2.0
PRODID:-//ChamberMaster//Event Calendar 2.0//EN
METHOD:PUBLISH
X-PUBLISHED-TTL:P3D
REFRESH-INTERVAL:P3D
CALSCALE:GREGORIAN
BEGIN:VEVENT
DTSTART:20260507T130000Z
DTEND:20260507T143000Z
X-MICROSOFT-CDO-ALLDAYEVENT:FALSE
SUMMARY:HAAM's National Day of Prayer Breakfast
DESCRIPTION:HAAM invites you to join us on May 7th from 8:00 9:30 a.m. for a morning dedicated to faith\, fellowship\, and the power of collective prayer. As we observe the National Day of Prayer\, we invite the entire community to gather for breakfast and a shared time of reflection. We are honored to welcome guest emcee Kim Kossie McKee from KSBJ/Hope Media Group\, alongside a special musical performance by Greg and Janna Long of the Grammy-nominated group\, Avalon. We will be joined by local guest speakers who will lead us in prayer for our nation\, our local leaders\, and the various needs of our community. Please join us for this opportunity to come together and strengthen our bonds as we lift up our neighbors and our future. We hope to see you there!
X-ALT-DESC;FMTTYPE=text/html:<span style="font-family:aptos\,aptos_embeddedfont\,aptos_msfontservice\,calibri\,helvetica\,sans-serif\; font-size:12pt">HAAM invites you to join us on May 7th from 8:00&ndash\;9:30 a.m. for a morning dedicated to faith\, fellowship\, and the power of collective prayer. As we observe the National Day of Prayer\, we invite the entire community to gather for breakfast and a shared time of reflection. We are honored to welcome guest emcee Kim Kossie McKee from KSBJ/Hope Media Group\, alongside a special musical performance by Greg and Janna Long of the Grammy-nominated group\, Avalon. We will be joined by local guest speakers who will lead us in prayer for our nation\, our local leaders\, and the various needs of our community. Please join us for this opportunity to come together and strengthen our bonds as we lift up our neighbors and our future. We hope to see you there!</span><!--EndFragment-->
LOCATION:Breakfast will be hosted at the Kingwood Country Club Address: 1700 Lake Kingwood Trail\, Kingwood TX 77339
UID:e.478.20674
SEQUENCE:3
DTSTAMP:20260424T091035Z
URL:https://business.gemcchamber.com/events/details/haam-s-national-day-of-prayer-breakfast-20674
END:VEVENT

END:VCALENDAR
