BEGIN:VCALENDAR
VERSION:2.0
PRODID:-//ChamberMaster//Event Calendar 2.0//EN
METHOD:PUBLISH
X-PUBLISHED-TTL:P3D
REFRESH-INTERVAL:P3D
CALSCALE:GREGORIAN
BEGIN:VEVENT
DTSTART:20251011T140000Z
DTEND:20251011T170000Z
X-MICROSOFT-CDO-ALLDAYEVENT:FALSE
SUMMARY:Fix It Crew Volunteer Club
DESCRIPTION:Join the Fix It Crew Volunteer Club and be a vital force in transforming our beloved Sanctuary! Collaborate with our skilled Facilities Manager to tackle meaningful projects\, from mending fences to crafting beautiful woodworking structures. Your efforts will enhance our surroundings and inspire a sense of community and achievement.\n\nTo ensure a safe and productive environment\, new members undergo a brief orientation\, complete a background check\, and receive approval. Once you're all set\, roll up your sleeves and dive into rewarding work activities on the second and fourth Saturdays of each month. Embark on this journey of growth and contribution\, and watch your skills and impact flourish!\n\nRegister for your attendance for work preparation the Thursday prior by noon by texting 361-315-5958 or emailing volunteer@henryshomesanctuary.org\n\nIf you have any questions or need help\, please don't hesitate to reach out. You can call us at 888-910-3747 ext. 4. We're here to help you every step of the way.
X-ALT-DESC;FMTTYPE=text/html:<p>Join the Fix It Crew Volunteer Club and be a vital force in transforming our beloved Sanctuary! Collaborate with our skilled Facilities Manager to tackle meaningful projects\, from mending fences to crafting beautiful woodworking structures. Your efforts will enhance our surroundings and inspire a sense of community and achievement.</p>\n\n<p>To ensure a safe and productive environment\, new members undergo a brief orientation\, complete a background check\, and receive approval. Once you&rsquo\;re all set\, roll up your sleeves and dive into rewarding work activities on the second and fourth Saturdays of each month. Embark on this journey of growth and contribution\, and watch your skills and impact flourish!</p>\n\n<p>Register for your attendance for work preparation the Thursday prior by noon by texting&nbsp\;<a href="tel:361-315-5958" style="color: rgb(20\, 20\, 20)\; box-sizing: border-box\; text-decoration-line: none\; background-color: transparent\; box-shadow: none\;">361-315-5958</a>&nbsp\;or emailing&nbsp\;<a href="mailto:volunteer@henryshomesanctuary.org" style="color: rgb(20\, 20\, 20)\; box-sizing: border-box\; text-decoration-line: none\; background-color: transparent\; box-shadow: none\;">volunteer@henryshomesanctuary.org</a></p>\n\n<p>If you have any questions or need help\, please don&rsquo\;t hesitate to reach out. You can call us at&nbsp\;<a href="tel:888-910-374" style="color: rgb(20\, 20\, 20)\; box-sizing: border-box\; text-decoration-line: none\; background-color: transparent\; box-shadow: none\;">888-910-374</a>7 ext. 4. We&rsquo\;re here to help you every step of the way.</p>\n
LOCATION:14368 Perry Road\, Conroe Texas
UID:e.478.19952
SEQUENCE:3
DTSTAMP:20260420T083124Z
URL:https://business.gemcchamber.com/events/details/fix-it-crew-volunteer-club-19952
END:VEVENT

END:VCALENDAR
