BEGIN:VCALENDAR
VERSION:2.0
PRODID:-//ChamberMaster//Event Calendar 2.0//EN
METHOD:PUBLISH
X-PUBLISHED-TTL:P3D
REFRESH-INTERVAL:P3D
CALSCALE:GREGORIAN
BEGIN:VEVENT
DTSTART:20260415T130000Z
DTEND:20260415T150000Z
X-MICROSOFT-CDO-ALLDAYEVENT:FALSE
SUMMARY:Business Networking Breakfast
DESCRIPTION:THE MOST FUN YOU'LL EVER HAVE AT BREAKFAST! \n\nWelcome to our exclusive Business Networking Breakfast   a premier monthly event designed for business leaders to learn something new and meet someone new! Start your day with community\, and you may win a $100 Visa gift card if you pre-register!  Our Presenting Sponsor\, ServiceMaster Restore\, generously donates a gift card for each breakfast\, so always remember to pre-register.\n\n\nOur monthly BNBs offer inspiring conversations\, where you can connect with growth- and community-minded business leaders who are driving change. One thing that distinguishes the Greater EMC Chamber is the welcoming atmosphere where new businesses are always welcome\, no matter what size. Be sure to bring business cards\, door prizes\, and have your 30-second introduction ready while you experience the most fun you'll ever have at breakfast!\n\n\n\nWe can't wait to welcome you to a morning filled with possibilities and community spirit! \n\n\n	Doors Open - 8:00 AM\n\n	\n		Check-in\, Breakfast & Open Networking\n	\n	\n	Program Begins - 8:30 AM\n	\n		Welcome & Announcements\n		Spotlight Sponsor Presentation: Insperity\n		Guest Networking Introductions\n		Door Prizes\n		Open Networking\n	\n	\n	Ribbon Cutting - 9:30 AM\n	Program Ends - 10:00 AM
X-ALT-DESC;FMTTYPE=text/html:<h1><span style="font-size: 16px\;"><strong><span style="color: rgb(178\, 34\, 34)\;">THE MOST FUN YOU&#39\;LL EVER HAVE AT BREAKFAST!&nbsp\;</span></strong></span></h1>\n\n<div style="background: rgb(238\, 238\, 238)\; border: 1px solid rgb(204\, 204\, 204)\; padding: 5px 10px\;"><span style="font-size: 16px\;">Welcome to our exclusive Business Networking Breakfast &mdash\; a premier monthly event designed for business leaders to learn something new and meet someone new! Start your day with community\, and you may win a $100 Visa gift card if you pre-register!&nbsp\; Our Presenting Sponsor\, ServiceMaster Restore\, generously donates a gift card for each breakfast\, so always remember to pre-register.</span></div>\n<br />\n<span style="font-size: 16px\;">Our monthly BNBs offer inspiring conversations\, where you can connect with growth- and community-minded business leaders who are driving change. One thing that distinguishes the Greater EMC Chamber is the welcoming atmosphere where new businesses are always welcome\, no matter what size. Be sure to bring business cards\, door prizes\, and have your 30-second introduction ready while you experience the most fun you&#39\;ll ever have at breakfast!<br />\n<br />\nWe can&#39\;t wait to welcome you to a morning filled with possibilities and community spirit!&nbsp\;</span>\n\n<ul>\n	<li><span style="font-size: 16px\;"><strong>Doors Open</strong>&nbsp\;- 8:00 AM</span>\n\n	<ul>\n		<li><span style="font-size: 16px\;">Check-in\,&nbsp\;Breakfast &amp\; Open Networking</span></li>\n	</ul>\n	</li>\n	<li><span style="font-size: 16px\;"><strong>Program Begins</strong>&nbsp\;- 8:30 AM</span>\n	<ul>\n		<li><span style="font-size: 16px\;">Welcome &amp\; Announcements</span></li>\n		<li><span style="font-size: 16px\;">Spotlight Sponsor Presentation: <strong>Insperity</strong></span></li>\n		<li><span style="font-size: 16px\;">Guest Networking Introductions</span></li>\n		<li><span style="font-size: 16px\;">Door Prizes</span></li>\n		<li><span style="font-size: 16px\;">Open Networking</span></li>\n	</ul>\n	</li>\n	<li><span style="font-size: 16px\;"><strong>Ribbon Cutting</strong>&nbsp\;- 9:30 AM</span></li>\n	<li><span style="font-size: 16px\;"><strong>Program Ends</strong>&nbsp\;- 10:00 AM</span></li>\n</ul>\n
LOCATION:Highland Pines Golf Club Porter\, TX 77365
UID:e.478.20221
SEQUENCE:3
DTSTAMP:20260419T135749Z
URL:https://business.gemcchamber.com/events/details/business-networking-breakfast-20221
END:VEVENT

END:VCALENDAR
